Workbook
Name \A: #REF!
Name \L: #REF!
Name \M: #REF!
Name \S: #REF!
Name ________abs1: #REF!
Name ________abs2: #REF!
Name ________abs3: #REF!
Name ________aen1: #REF!
Name ________aen2: #REF!
Name ________bem98: [1]Programa!#REF!
Name ________BOP1: #REF!
Name ________BOP2: #REF!
Name ________cap2: '[2]EVALUACIÓN PRIVADA'!#REF!
Name ________cap3: '[2]EVALUACIÓN PRIVADA'!#REF!
Name ________cas2: '[2]EVALUACIÓN SOCIOECONÓMICA'!#REF!
Name ________cas3: '[2]EVALUACIÓN SOCIOECONÓMICA'!#REF!
Name ________CEL96: #REF!
Name ________cud21: #REF!
Name ________dcc2000: #REF!
Name ________dcc2001: #REF!
Name ________dcc2002: #REF!
Name ________dcc2003: #REF!
Name ________dcc98: [1]Programa!#REF!
Name ________dcc99: #REF!
Name ________DES2: '[2]EVALUACIÓN PRIVADA'!#REF!
Name ________DES3: '[2]EVALUACIÓN PRIVADA'!#REF!
Name ________dic96: #REF!
Name ________emi2000: #REF!
Name ________emi2001: #REF!
Name ________emi2002: #REF!
Name ________emi2003: #REF!
Name ________emi98: #REF!
Name ________emi99: #REF!
Name ________FIS96: #REF!
Name ________Ind12: '[2]ANÁLISIS DE SENSIBILIDAD'!#REF!
Name ________Ind17: '[2]ANÁLISIS DE SENSIBILIDAD'!#REF!
Name ________Ind18: '[2]ANÁLISIS DE SENSIBILIDAD'!#REF!
Name ________Ind22: '[2]ANÁLISIS DE SENSIBILIDAD'!#REF!
Name ________Ind27: '[2]ANÁLISIS DE SENSIBILIDAD'!#REF!
Name ________Ind28: '[2]ANÁLISIS DE SENSIBILIDAD'!#REF!
Name ________Ind32: '[2]ANÁLISIS DE SENSIBILIDAD'!#REF!
Name ________Ind41: [2]INDICADORES!#REF!
Name ________Ind42: [2]INDICADORES!#REF!
Name ________Ind43: [2]INDICADORES!#REF!
Name ________INE1: #REF!
Name ________ipc2000: #REF!
Name ________ipc2001: #REF!
Name ________ipc2002: #REF!
Name ________ipc2003: #REF!
Name ________ipc98: #REF!
Name ________ipc99: #REF!
Name ________me98: [1]Programa!#REF!
Name ________mk14: [3]NFPEntps!#REF!
Name ________npp2000: #REF!
Name ________npp2001: #REF!
Name ________npp2002: #REF!
Name ________npp2003: #REF!
Name ________npp98: #REF!
Name ________npp99: #REF!
Name ________OUT1: #REF!

Sheet TEREDA_RESUME_P9
B1: CREDITS 2023-2024 | C1: Exécution Oct. 2023 | D1: Exécution Nov. 2023 | E1: Exécution Déc. 2023 | F1: Trimestre I | G1: Exécution Janvier 2024 | H1: Exécution Février 2024 | I1: Exécution Mars 2024 | J1: Trimestre II | K1: Semestre I | L1: Exécution Avril 2024 | M1: Exécution Mai 2024 | N1: Exécution Juin 2024 | O1: Trimestre III | P1: Exécution au 30 Juin 2024 | Q1: Solde | R1: % d'exécution | S1: Variation en glissement annuel | U1: Exécution au 30 Juin 2023
A2: Total Ressources | B2: 320645000000 | C2: =C3+C8+C9+C11+C12+C13+C14+C10 -> 1.7132219e+10 | D2: =D3+D8+D9+D11+D12+D13+D14+D10 -> 1.5692178e+10 | E2: =E3+E8+E9+E11+E12+E13+E14+E10 -> 2.510194e+10 | F2: =F3+F8+F9+F11+F12+F13+F14+F10 -> 5.7926337e+10 | G2: =G3+G8+G9+G11+G12+G13+G14+G10 -> 2.0315755e+10 | H2: =H3+H8+H9+H11+H12+H13+H14+H10 -> 1.2578412e+10 | I2: =I3+I8+I9+I11+I12+I13+I14+I10 -> 3.3579808e+09 | J2: =J3+J8+J9+J11+J12+J13+J14+J10 -> 3.6252148e+10 | ... P2: =P3+P8+P9+P11+P12+P13+P14+P10 -> 1.2904136e+11 | Q2: =B2-P2 -> 1.9160364e+11 | R2: =IF(B2<>0,P2/B2,0) -> 0.40244308 | S2: =P2/U2-1 -> 0.0039006578 | U2: 1.2853997e+11
A3: Recettes Courantes | B3: =B4+B5+B7+B6 -> 192823375000 | C3: =C4+C5+C7+C6 -> 1.4835221e+10 | D3: =D4+D5+D7+D6 -> 1.5180789e+10 | E3: =E4+E5+E7+E6 -> 1.9590681e+10 | F3: =F4+F5+F7+F6 -> 4.960669e+10 | G3: =G4+G5+G7+G6 -> 1.6555263e+10 | H3: =H4+H5+H7+H6 -> 1.3899668e+10 | I3: =I4+I5+I7+I6 -> 3.31006e+09 | ... Q3: =Q4+Q5+Q7+Q6 -> 7.037412e+10 | R3: =IF(B3<>0,P3/B3,0) -> 0.63503325 | S3: =P3/U3-1 -> -0.083005611 | U3: 1.3353327e+11 | W3: =P4/8 -> 6.2989523e+09
A4: Recettes internes | B4: 82700000000 | C4: 6.5796401e+09 | D4: 5.8129441e+09 | E4: 7.7717921e+09 | F4: =C4+D4+E4 -> 2.0164376e+10 | G4: 6.982994e+09 | H4: 5.8175395e+09 | I4: 9.9262139e+08 | J4: =G4+H4+I4 -> 1.3793155e+10 | K4: =F4+J4 -> 3.3957531e+10 | L4: 5.7577796e+09 | M4: 5.8766751e+09 | N4: 4.7996324e+09 | O4: =L4+M4+N4 -> 16434087066 | P4: =K4+O4 -> 5.0391618e+10 | Q4: =B4-P4 -> 3.2308382e+10 | R4: =IF(B4<>0,P4/B4,0) -> 0.60933033 | S4: =P4/U4-1 -> -0.077636024 | U4: 5.4633116e+10
A5: Recettes douanières (AGD) | B5: 88800000000 | C5: 7.1198504e+09 | D5: 7.7593882e+09 | E5: 9.5702098e+09 | F5: =C5+D5+E5 -> 2.4449448e+10 | G5: 7.3374317e+09 | H5: 6.104897e+09 | I5: 7.4860737e+08 | J5: =G5+H5+I5 -> 1.4190936e+10 | K5: =F5+J5 -> 3.8640385e+10 | L5: 7.1989501e+09 | M5: 6.3764115e+09 | N5: 3.7106047e+09 | O5: =L5+M5+N5 -> 1.7285966e+10 | P5: =K5+O5 -> 5.5926351e+10 | Q5: =B5-P5 -> 3.2873649e+10 | R5: =IF(B5<>0,P5/B5,0) -> 0.62980125 | S5: =P5/U5-1 -> -0.17394319 | U5: 6.770279e+10
A6: Recettes pétrolières | B6: 19323375000 | C6: 1.1260076e+09 | D6: 1.5821358e+09 | E6: 2215153794 | F6: =C6+D6+E6 -> 4.9232972e+09 | G6: 2.2283228e+09 | H6: 1.9684799e+09 | I6: 1.5688313e+09 | J6: =G6+H6+I6 -> 5.765634e+09 | K6: =F6+J6 -> 1.0688931e+10 | L6: 1.6309969e+09 | M6: 1.82191e+09 | N6: 1.707657e+09 | O6: =L6+M6+N6 -> 5.1605639e+09 | P6: =K6+O6 -> 1.5849495e+10 | Q6: =B6-P6 -> 3.4738799e+09 | R6: =IF(B6<>0,P6/B6,0) -> 0.82022395 | S6: =P6/U6-1 -> 0.42612967 | U6: 1.1113642e+10
A7: Autres ressources domestiques (Divers) | B7: 2000000000 | C7: 9722950.3 | D7: 26320429 | E7: 33525110 | F7: =C7+D7+E7 -> 69568489 | G7: 6514120.8 | H7: 8751570.4 | I7: 0 | J7: =G7+H7+I7 -> 15265691 | K7: =F7+J7 -> 84834181 | L7: 1.2567389e+08 | M7: 50992350 | N7: 20290865 | O7: =L7+M7+N7 -> 1.969571e+08 | P7: =K7+O7 -> 2.8179128e+08 | Q7: =B7-P7 -> 1.7182087e+09 | R7: =IF(B7<>0,P7/B7,0) -> 0.14089564 | S7: =P7/U7-1 -> 2.3659917 | U7: 83717166
A8: Support budgétaire | B8: 7994625000 | C8: 0 | D8: 0 | E8: 0 | F8: =C8+D8+E8 -> 0 | G8: 0 | H8: 0 | I8: 0 | J8: =G8+H8+I8 -> 0 | K8: =F8+J8 -> 0 | L8: 0 | M8: 0 | N8: 0 | O8: =L8+M8+N8 -> 0 | P8: =K8+O8 -> 0 | Q8: =B8-P8 -> 7994625000 | R8: =IF(B8<>0,P8/B8,0) -> 0 | U8: 0
A9: Annulation dette FMI | B9: 1450268833 | C9: 0 | D9: 0 | E9: 0 | F9: =C9+D9+E9 -> 0 | G9: 0 | H9: 0 | I9: 0 | J9: =G9+H9+I9 -> 0 | K9: =F9+J9 -> 0 | L9: 0 | M9: 0 | N9: 0 | O9: =L9+M9+N9 -> 0 | P9: =K9+O9 -> 0 | Q9: =B9-P9 -> 1450268833 | R9: =IF(B9<>0,P9/B9,0) -> 0 | U9: 0
A10: Sur Emprunt (FMI) | B10: 12145991240 | C10: 0 | D10: 0 | E10: 0 | F10: =C10+D10+E10 -> 0 | G10: 0 | H10: 0 | I10: 0 | J10: =G10+H10+I10 -> 0 | K10: =F10+J10 -> 0 | L10: 0 | M10: 0 | N10: 0 | O10: =L10+M10+N10 -> 0 | P10: =K10+O10 -> 0 | Q10: =B10-P10 -> 12145991240 | R10: =IF(B10<>0,P10/B10,0) -> 0 | S10: =P10/U10-1 -> -1 | U10: 3991250000
A11: Autre Financement Interne des projets | B11: 4540396078 | C11: 0 | D11: 0 | E11: 0 | F11: =C11+D11+E11 -> 0 | G11: 0 | H11: 0 | I11: 0 | J11: =G11+H11+I11 -> 0 | K11: =F11+J11 -> 0 | L11: 0 | M11: 0 | N11: 0 | O11: =L11+M11+N11 -> 0 | P11: =K11+O11 -> 0 | Q11: =B11-P11 -> 4540396078 | R11: =IF(B11<>0,P11/B11,0) -> 0 | U11: 0
A12: Dons & Emprunts | B12: 65690343850 | C12: 1.6183667e+09 | D12: 2.2616571e+09 | E12: 2.5758699e+09 | F12: =C12+D12+E12 -> 6.4558938e+09 | G12: 70985880 | H12: 33844718 | I12: 36204166 | J12: =G12+H12+I12 -> 1.4103476e+08 | K12: =F12+J12 -> 6.5969285e+09 | L12: 0 | M12: 0 | N12: 0 | O12: =L12+M12+N12 -> 0 | P12: =K12+O12 -> 6.5969285e+09 | Q12: =B12-P12 -> 5.9093415e+10 | R12: =IF(B12<>0,P12/B12,0) -> 0.10042463 | U12: 0
A13: Institutions financières (Emprunt BRH) | B13: 24000000000 | C13: 0 | D13: 0 | E13: 0 | F13: =C13+D13+E13 -> 0 | G13: 0 | H13: 0 | I13: 0 | J13: =G13+H13+I13 -> 0 | K13: =F13+J13 -> 0 | L13: 0 | M13: 0 | N13: 0 | O13: =L13+M13+N13 -> 0 | P13: =K13+O13 -> 0 | Q13: =B13-P13 -> 24000000000 | R13: =IF(B13<>0,P13/B13,0) -> 0 | U13: 0
A14: Bons du Trésor (Valeur Nette) | B14: 12000000000 | C14: 6.78631e+08 | D14: -1750267500 | E14: 2935389300 | F14: =C14+D14+E14 -> 1.8637528e+09 | G14: 3689506000 | H14: -1355100300 | I14: 11716600 | J14: =G14+H14+I14 -> 2.3461223e+09 | K14: =F14+J14 -> 4.2098751e+09 | L14: -3517723850 | M14: -1.909937e+08 | N14: -5.059795e+08 | O14: =L14+M14+N14 -> -4.214697e+09 | P14: =K14+O14 -> -4821950 | Q14: =B14-P14 -> 1.2004822e+10 | R14: =IF(B14<>0,P14/B14,0) -> -0.00040182917 | S14: =(P14/U14-1)*-1 -> 0.99946331 | U14: -8984544200
A15: Dépenses Totales | B15: 3.20645e+11 | C15: =C16+C30 -> 7.5044901e+09 | D15: =D16+D30 -> 1.18877e+10 | E15: =E16+E30 -> 2.0701961e+10 | F15: =F16+F30 -> 4.0094151e+10 | G15: =G16+G30 -> 1.59606e+10 | H15: =H16+H30 -> 1.0252499e+10 | I15: =I16+I30 -> 8.7671158e+09 | J15: =J16+J30 -> 3.4980215e+10 | ... N15: =N16+N30 -> 1.6976733e+10 | O15: =L15+M15+N15 -> 3.5471811e+10 | P15: =K15+O15 -> 1.1054618e+11 | Q15: =B15-P15 -> 2.1009882e+11 | R15: =IF(B15<>0,P15/B15,0) -> 0.34476189 | S15: =P15/U15-1 -> -0.090751817 | U15: 1.2157976e+11
A16: Depenses courantes | B16: 1.6223472e+11 | C16: =C17+C18+C21+C27 -> 5.7121165e+09 | D16: =D17+D18+D21+D27 -> 8.8654864e+09 | E16: =E17+E18+E21+E27 -> 1.6562032e+10 | F16: =F17+F18+F21+F27 -> 3.1139635e+10 | G16: =G17+G18+G21+G27 -> 1.1367907e+10 | H16: =H17+H18+H21+H27 -> 8.848239e+09 | I16: =I17+I18+I21+I27 -> 8.3287963e+09 | J16: =J17+J18+J21+J27 -> 2.8544943e+10 | ... N16: =N17+N18+N21+N27 -> 1.4351436e+10 | O16: =L16+M16+N16 -> 2.8431596e+10 | P16: =K16+O16 -> 8.8116174e+10 | Q16: =B16-P16 -> 7.4118546e+10 | R16: =IF(B16<>0,P16/B16,0) -> 0.54314005 | S16: =P16/U16-1 -> -0.038218466 | U16: 9.161766e+10
A17: Dépenses de personnel | B17: 8.2282592e+10 | C17: 4.7032079e+09 | D17: 5.3011908e+09 | E17: 1.041498e+10 | F17: =C17+D17+E17 -> 2.0419379e+10 | G17: 6.244955e+09 | H17: 5.1821432e+09 | I17: 5.7208129e+09 | J17: =G17+H17+I17 -> 1.7147911e+10 | K17: =F17+J17 -> 3.756729e+10 | L17: 5.8202961e+09 | M17: 2.4134296e+09 | N17: 1.0151894e+10 | O17: =L17+M17+N17 -> 1.838562e+10 | P17: =K17+O17 -> 5.595291e+10 | Q17: =B17-P17 -> 2.6329682e+10 | R17: =IF(B17<>0,P17/B17,0) -> 0.68000908 | S17: =P17/U17-1 -> 0.016708885 | U17: 5.5033364e+10
A18: Dépenses Biens et services | B18: 5.442183e+10 | C18: =C19+C20 -> 7.6414024e+08 | D18: =D19+D20 -> 1.7661125e+09 | E18: =E19+E20 -> 4.7854915e+09 | F18: =F19+F20 -> 7.3157443e+09 | G18: =G19+G20 -> 3.2471043e+09 | H18: =H19+H20 -> 2.7431042e+09 | I18: =I19+I20 -> 2.255808e+09 | J18: =J19+J20 -> 8.2460164e+09 | ... N18: =N19+N20 -> 2.7893963e+09 | O18: =L18+M18+N18 -> 7.5323923e+09 | P18: =K18+O18 -> 2.3094153e+10 | Q18: =B18-P18 -> 3.1327677e+10 | R18: =IF(B18<>0,P18/B18,0) -> 0.42435459 | S18: =P18/U18-1 -> 0.010075999 | U18: 2.2863778e+10
A19: Hors interventions publiques | B19: 3.748284e+10 | C19: 7.3756452e+08 | D19: 1.2110828e+09 | E19: 3.8009987e+09 | F19: =C19+D19+E19 -> 5.749646e+09 | G19: 2.2634707e+09 | H19: 1.8904804e+09 | I19: 1.3343338e+09 | J19: =G19+H19+I19 -> 5.4882849e+09 | K19: =F19+J19 -> 1.1237931e+10 | L19: 2.129697e+09 | M19: 2.0025116e+09 | N19: 2.4902068e+09 | O19: =L19+M19+N19 -> 6.6224154e+09 | P19: =K19+O19 -> 1.7860346e+10 | Q19: =B19-P19 -> 1.9622493e+10 | R19: =IF(B19<>0,P19/B19,0) -> 0.47649395 | S19: =P19/U19-1 -> 0.17250626 | U19: 1.5232624e+10
A20: Sur Interventions Publiques | B20: 16938990000 | C20: 26575716 | D20: 5.5502976e+08 | E20: 9.8449278e+08 | F20: =C20+D20+E20 -> 1.5660983e+09 | G20: 983633538 | H20: 852623795 | I20: 921474171 | J20: =G20+H20+I20 -> 2757731504 | K20: =F20+J20 -> 4.3238298e+09 | L20: 188082364 | M20: 422705000 | N20: 2.9918949e+08 | O20: =L20+M20+N20 -> 9.0997685e+08 | P20: =K20+O20 -> 5.2338066e+09 | Q20: =B20-P20 -> 1.1705183e+10 | R20: =IF(B20<>0,P20/B20,0) -> 0.30897985 | S20: =P20/U20-1 -> -0.31415268 | U20: 7.6311541e+09
A21: Quote Part et Subventions | B21: 2.264874e+10 | C21: =C22+C23+C24 -> 201984055 | D21: =D22+D23+D24 -> 1.7035436e+09 | E21: =E22+E23+E24 -> 1.3439315e+09 | F21: =F22+F23+F24 -> 3.2494591e+09 | G21: =G22+G23+G24 -> 1.6664293e+09 | H21: =H22+H23+H24 -> 4.1470991e+08 | I21: =I22+I23+I24 -> 352175373 | J21: =J22+J23+J24 -> 2.4333146e+09 | ... Q21: =Q22+Q23+Q24 -> 1.4695379e+10 | R21: =IF(B21<>0,P21/B21,0) -> 0.35116132 | S21: =P21/U21-1 -> -0.3512671 | U21: 1.225984e+10
A22: Institutions à crédit ventilé | B22: 1.0446471e+09 | C22: 0 | D22: 12223665 | E22: 13073125 | F22: =C22+D22+E22 -> 25296790 | G22: 83419735 | H22: 44167637 | I22: 7071400 | J22: =G22+H22+I22 -> 1.3465877e+08 | K22: =F22+J22 -> 1.5995556e+08 | L22: 7408801 | M22: 14081228 | N22: 86019387 | O22: =L22+M22+N22 -> 1.0750942e+08 | P22: =K22+O22 -> 2.6746498e+08 | Q22: =B22-P22 -> 7.7718214e+08 | R22: =IF(B22<>0,P22/B22,0) -> 0.25603381 | S22: =P22/U22-1 -> 0.093482426 | U22: 2.4459925e+08
A23: Interventions publiques | B23: 1.2804093e+10 | C23: 201984055 | D23: 5.2381098e+08 | E23: 1.2671765e+09 | F23: =C23+D23+E23 -> 1.9929715e+09 | G23: 7.064464e+08 | H23: 271441752 | I23: 283712270 | J23: =G23+H23+I23 -> 1.2616004e+09 | K23: =F23+J23 -> 3.2545719e+09 | L23: 517933228 | M23: 310436446 | N23: 1139449904 | O23: =L23+M23+N23 -> 1967819578 | P23: =K23+O23 -> 5.2223915e+09 | Q23: =B23-P23 -> 7.5817015e+09 | R23: =IF(B23<>0,P23/B23,0) -> 0.40786891 | S23: =P23/U23-1 -> 0.19429412 | U23: 4.3727851e+09
A24: Dotation spéciale secteur de l'énergie | B24: 8800000000 | C24: =C25+C26 -> 0 | D24: =D25+D26 -> 1.1675089e+09 | E24: =E25+E26 -> 63681897 | F24: =C24+D24+E24 -> 1.2311908e+09 | G24: =G25+G26 -> 8.7656316e+08 | H24: =H25+H26 -> 99100525 | I24: =I25+I26 -> 61391703 | J24: =G24+H24+I24 -> 1.0370554e+09 | K24: =F24+J24 -> 2.2682462e+09 | L24: =L25+L26 -> 81930788 | M24: =M25+M26 -> 0 | N24: =N25+N26 -> 1.1332797e+08 | O24: =O25+O26 -> 1.9525876e+08 | P24: =K24+O24 -> 2.463505e+09 | Q24: =B24-P24 -> 6.336495e+09 | R24: =IF(B24<>0,P24/B24,0) -> 0.27994374 | S24: =P24/U24-1 -> -0.67765531 | U24: 7.6424554e+09
A25: Electricité d'Etat d'Haiti | B25: 8800000000 | C25: 0 | D25: 1.1675089e+09 | E25: 63681897 | F25: =C25+D25+E25 -> 1.2311908e+09 | G25: 8.7656316e+08 | H25: 99100525 | I25: 61391703 | J25: =G25+H25+I25 -> 1.0370554e+09 | K25: =F25+J25 -> 2.2682462e+09 | L25: 81930788 | M25: 0 | N25: 1.1332797e+08 | O25: =L25+M25+N25 -> 1.9525876e+08 | P25: =K25+O25 -> 2.463505e+09 | Q25: =B25-P25 -> 6.336495e+09 | R25: =IF(B25<>0,P25/B25,0) -> 0.27994374 | S25: =P25/U25-1 -> -0.67765531 | U25: 7.6424554e+09
A26: Produits Pétroliers | B26: 0 | C26: 0 | D26: 0 | E26: 0 | F26: =C26+D26+E26 -> 0 | G26: 0 | H26: 0 | I26: 0 | J26: =G26+H26+I26 -> 0 | K26: =F26+J26 -> 0 | L26: 0 | M26: 0 | N26: 0 | O26: =L26+M26+N26 -> 0 | P26: =K26+O26 -> 0 | Q26: =B26-P26 -> 0 | R26: =IF(B26<>0,P26/B26,0) -> 0 | U26: 0
A27: Intérêt de la Dette | B27: 2.8815575e+09 | C27: =C28+C29 -> 42784300 | D27: =D28+D29 -> 94639540 | E27: =E28+E29 -> 17629446 | F27: =F28+F29 -> 1.5505329e+08 | G27: =G28+G29 -> 2.0941881e+08 | H27: =H28+H29 -> 5.0828168e+08 | I27: =I28+I29 -> 0 | J27: =J28+J29 -> 7.1770049e+08 | ... N27: =N28+N29 -> 71347555 | O27: =L27+M27+N27 -> 2.4299571e+08 | P27: =K27+O27 -> 1.1157495e+09 | Q27: =B27-P27 -> 1.765808e+09 | R27: =IF(B27<>0,P27/B27,0) -> 0.38720362 | S27: =P27/U27-1 -> -0.23614329 | U27: 1.4606791e+09
A28: Intérêt Interne | B28: 3.910808e+08 | C28: 0 | D28: 20828054 | E28: 0 | F28: =C28+D28+E28 -> 20828054 | G28: 0 | H28: 0 | I28: 0 | J28: =G28+H28+I28 -> 0 | K28: =F28+J28 -> 20828054 | L28: 12220989 | M28: 1.1916024e+08 | N28: 0 | O28: =L28+M28+N28 -> 1.3138123e+08 | P28: =K28+O28 -> 1.5220928e+08 | Q28: =B28-P28 -> 2.3887152e+08 | R28: =IF(B28<>0,P28/B28,0) -> 0.38920163 | S28: =P28/U28-1 -> -0.24212332 | U28: 2.0083648e+08
A29: Intérêt Externe | B29: 2.4904767e+09 | C29: 42784300 | D29: 73811486 | E29: 17629446 | F29: =C29+D29+E29 -> 1.3422523e+08 | G29: 2.0941881e+08 | H29: 5.0828168e+08 | I29: 0 | J29: =G29+H29+I29 -> 7.1770049e+08 | K29: =F29+J29 -> 8.5192573e+08 | L29: 39513853 | M29: 753071.4 | N29: 71347555 | O29: =L29+M29+N29 -> 1.1161448e+08 | P29: =K29+O29 -> 963540207 | Q29: =B29-P29 -> 1.5269365e+09 | R29: =IF(B29<>0,P29/B29,0) -> 0.38688987 | S29: =P29/U29-1 -> -0.23518999 | U29: 1.2598426e+09
A30: Dépenses de Capital | B30: 1.5841028e+11 | C30: =SUM(C31,C38,C41) -> 1.7923736e+09 | D30: =SUM(D31,D38,D41) -> 3.0222135e+09 | E30: =SUM(E31,E38,E41) -> 4.1399286e+09 | F30: =SUM(F31,F38,F41) -> 8.9545157e+09 | G30: =SUM(G31,G38,G41) -> 4.5926925e+09 | H30: =SUM(H31,H38,H41) -> 1.4042603e+09 | I30: =SUM(I31,I38,I41) -> 4.3831955e+08 | J30: =SUM(J31,J38,J41) -> 6.4352723e+09 | ... N30: =SUM(N31,N38,N41) -> 2.6252972e+09 | O30: =L30+M30+N30 -> 7.0402155e+09 | P30: =K30+O30 -> 2.2430003e+10 | Q30: =B30-P30 -> 1.3598028e+11 | R30: =IF(B30<>0,P30/B30,0) -> 0.14159437 | S30: =P30/U30-1 -> -0.2513875 | U30: 2.9962101e+10
A31: Programmes et projets | B31: 1.17745e+11 | C31: =SUM(C32:C36) -> 1.6183667e+09 | D31: =SUM(D32:D36) -> 2.4257219e+09 | E31: =SUM(E32:E36) -> 3.3395457e+09 | F31: =SUM(F32:F36) -> 7.3836343e+09 | G31: =SUM(G32:G36) -> 2.7797271e+08 | H31: =SUM(H32:H36) -> 2.9259472e+08 | I31: =SUM(I32:I36) -> 1.7620765e+08 | J31: =SUM(J32:J36) -> 7.4677508e+08 | ... N31: =SUM(N32:N36) -> 1.4509225e+09 | O31: =L31+M31+N31 -> 1.9120949e+09 | P31: =K31+O31 -> 1.0042504e+10 | Q31: =B31-P31 -> 1.077025e+11 | R31: =IF(B31<>0,P31/B31,0) -> 0.085290283 | S31: =P31/U31-1 -> 0.26057307 | U31: 7.9666182e+09
A32: Sur Trésor Public | B32: 3.3918e+10 | C32: 0 | D32: 164064838 | E32: 7.6367572e+08 | F32: =C32+D32+E32 -> 9.2774056e+08 | G32: 2.0698683e+08 | H32: 258750000 | I32: 1.4000349e+08 | J32: =G32+H32+I32 -> 6.0574032e+08 | K32: =F32+J32 -> 1.5334809e+09 | L32: 4.5164324e+08 | M32: 9529185.6 | N32: 1.4509225e+09 | O32: =L32+M32+N32 -> 1.9120949e+09 | P32: =K32+O32 -> 3.4455758e+09 | Q32: =B32-P32 -> 3.0472424e+10 | R32: =IF(B32<>0,P32/B32,0) -> 0.10158547 | S32: =P32/U32-1 -> -0.13326875 | U32: 3.9753682e+09
A33: Sur Annulation dette FMI | B33: 1.4502688e+09 | C33: 0 | D33: 0 | E33: 0 | F33: =C33+D33+E33 -> 0 | G33: 0 | H33: 0 | I33: 0 | J33: =G33+H33+I33 -> 0 | K33: =F33+J33 -> 0 | L33: 0 | M33: 0 | N33: 0 | O33: =L33+M33+N33 -> 0 | P33: =K33+O33 -> 0 | Q33: =B33-P33 -> 1.4502688e+09 | R33: =IF(B33<>0,P33/B33,0) -> 0 | U33: 0
A34: Sur Emprunt (FMI) | B34: 12145991240 | C34: 0 | D34: 0 | E34: 0 | F34: =C34+D34+E34 -> 0 | G34: 0 | H34: 0 | I34: 0 | J34: =G34+H34+I34 -> 0 | K34: =F34+J34 -> 0 | L34: 0 | M34: 0 | N34: 0 | O34: =L34+M34+N34 -> 0 | P34: =K34+O34 -> 0 | Q34: =B34-P34 -> 12145991240 | R34: =IF(B34<>0,P34/B34,0) -> 0 | S34: =P34/U34-1 -> -1 | U34: 3991250000
A35: Sur Autres financement interne | B35: 4540396078 | C35: 0 | D35: 0 | E35: 0 | F35: =C35+D35+E35 -> 0 | G35: 0 | H35: 0 | I35: 0 | J35: =G35+H35+I35 -> 0 | K35: =F35+J35 -> 0 | L35: 0 | M35: 0 | N35: 0 | O35: =L35+M35+N35 -> 0 | P35: =K35+O35 -> 0 | Q35: =B35-P35 -> 4540396078 | R35: =IF(B35<>0,P35/B35,0) -> 0 | U35: 0
A36: Sur dons et emprunts | B36: 6.5690344e+10 | C36: 1.6183667e+09 | D36: 2.2616571e+09 | E36: 2.5758699e+09 | F36: =C36+D36+E36 -> 6.4558938e+09 | G36: 70985880 | H36: 33844718 | I36: 36204166 | J36: =G36+H36+I36 -> 1.4103476e+08 | K36: =F36+J36 -> 6.5969285e+09 | L36: 0 | M36: 0 | N36: 0 | O36: =L36+M36+N36 -> 0 | P36: =K36+O36 -> 6.5969285e+09 | Q36: =B36-P36 -> 5.9093415e+10 | R36: =IF(B36<>0,P36/B36,0) -> 0.10042463 | U36: 0
U37: 0
A38: Immobilisation | B38: 3.2326613e+09 | C38: =C39+C40 -> 0 | D38: =D39+D40 -> 17591434 | E38: =E39+E40 -> 2.361408e+08 | F38: =F39+F40 -> 2.5373223e+08 | G38: =G39+G40 -> 50251201 | H38: =H39+H40 -> 23951199 | I38: =I39+I40 -> 25987725 | J38: =J39+J40 -> 1.0019012e+08 | ... N38: =N39+N40 -> 32545394 | O38: =L38+M38+N38 -> 42205069 | P38: =K38+O38 -> 3.9612743e+08 | Q38: =B38-P38 -> 2.8365338e+09 | R38: =IF(B38<>0,P38/B38,0) -> 0.12253911 | S38: =P38/U38-1 -> 0.30365929 | U38: 3.0385809e+08
A39: Hors interventions publiques | B39: 3.0826613e+09 | C39: 0 | D39: 17591434 | E39: 2.361408e+08 | F39: =C39+D39+E39 -> 2.5373223e+08 | G39: 50251201 | H39: 23951199 | I39: 25987725 | J39: =G39+H39+I39 -> 1.0019012e+08 | K39: =F39+J39 -> 3.5392236e+08 | L39: 6793328.3 | M39: 2866346.5 | N39: 24999394 | O39: =L39+M39+N39 -> 34659069 | P39: =K39+O39 -> 3.8858143e+08 | Q39: =B39-P39 -> 2.6940798e+09 | R39: =IF(B39<>0,P39/B39,0) -> 0.12605388 | S39: =P39/U39-1 -> 0.27882533 | U39: 3.0385809e+08
A40: Sur Interventions Publiques | B40: 150000000 | C40: 0 | D40: 0 | E40: 0 | F40: =C40+D40+E40 -> 0 | G40: 0 | H40: 0 | I40: 0 | J40: =G40+H40+I40 -> 0 | K40: =F40+J40 -> 0 | L40: 0 | M40: 0 | N40: 7546000 | O40: =L40+M40+N40 -> 7546000 | P40: =K40+O40 -> 7546000 | Q40: =B40-P40 -> 142454000 | R40: =IF(B40<>0,P40/B40,0) -> 0.050306667 | U40: 0
...
